BEGIN:VCALENDAR
VERSION:2.0
PRODID:spatie/icalendar-generator
DESCRIPTION:Events from CP Mopar Garage
X-WR-CALDESC:Events from CP Mopar Garage
REFRESH-INTERVAL;VALUE=DURATION:PT1440M
X-PUBLISHED-TTL:PT1440M
BEGIN:VTIMEZONE
TZID:Etc/GMT+0
BEGIN:STANDARD
DTSTART:20240625T000000Z
TZOFFSETFROM:+0000
TZOFFSETTO:+0000
END:STANDARD
END:VTIMEZONE
BEGIN:VTIMEZONE
TZID:UTC
BEGIN:STANDARD
DTSTART:20250724T121332Z
TZOFFSETFROM:+0000
TZOFFSETTO:+0000
END:STANDARD
END:VTIMEZONE
BEGIN:VEVENT
UID:3-3
DTSTAMP:20260420T121332Z
SUMMARY:Springfest 2025
LOCATION:
ORGANIZER;CN=admin:MAILTO:gfeusi@outlook.com
DTSTART;TZID=Etc/GMT+0;VALUE=DATE:20250322
DTEND;TZID=Etc/GMT+0;VALUE=DATE:20250323
X-ALT-DESC;FMTTYPE=TEXT/HTML:Check Out The Event Here! https://www.poweredb
 ysrt.com
CATEGORIES:Car Shows
URL;VALUE=URI:https://cpmopargarage.com/mc-events/springfest-2025-2/
METHOD:PUBLISH
END:VEVENT
END:VCALENDAR