BEGIN:VCALENDAR
VERSION:2.0
PRODID:spatie/icalendar-generator
DESCRIPTION:Events from CP Mopar Garage
X-WR-CALDESC:Events from CP Mopar Garage
REFRESH-INTERVAL;VALUE=DURATION:PT1440M
X-PUBLISHED-TTL:PT1440M
BEGIN:VTIMEZONE
TZID:Etc/GMT+0
BEGIN:STANDARD
DTSTART:20240702T000000Z
TZOFFSETFROM:+0000
TZOFFSETTO:+0000
END:STANDARD
END:VTIMEZONE
BEGIN:VTIMEZONE
TZID:UTC
BEGIN:STANDARD
DTSTART:20250724T104752Z
TZOFFSETFROM:+0000
TZOFFSETTO:+0000
END:STANDARD
END:VTIMEZONE
BEGIN:VEVENT
UID:4-4
DTSTAMP:20260420T104752Z
SUMMARY:South OC Cars and Coffee
LOCATION:
ORGANIZER;CN=admin:MAILTO:gfeusi@outlook.com
DTSTART;TZID=Etc/GMT+0:20250329T000000
DTEND;TZID=Etc/GMT+0:20250329T010000
X-ALT-DESC;FMTTYPE=TEXT/HTML:Learn More Here: https://www.southoccarsandcof
 fee.com
CATEGORIES:Car Shows
URL;VALUE=URI:https://cpmopargarage.com/mc-events/south-oc-cars-and-coffee/
METHOD:PUBLISH
END:VEVENT
END:VCALENDAR