BEGIN:VCALENDAR
VERSION:2.0
PRODID:spatie/icalendar-generator
DESCRIPTION:Events from CP Mopar Garage
X-WR-CALDESC:Events from CP Mopar Garage
REFRESH-INTERVAL;VALUE=DURATION:PT1440M
X-PUBLISHED-TTL:PT1440M
BEGIN:VTIMEZONE
TZID:Etc/GMT+0
BEGIN:STANDARD
DTSTART:20240806T000000Z
TZOFFSETFROM:+0000
TZOFFSETTO:+0000
END:STANDARD
END:VTIMEZONE
BEGIN:VTIMEZONE
TZID:UTC
BEGIN:STANDARD
DTSTART:20250724T083007Z
TZOFFSETFROM:+0000
TZOFFSETTO:+0000
END:STANDARD
END:VTIMEZONE
BEGIN:VEVENT
UID:5-5
DTSTAMP:20260420T083007Z
SUMMARY:Chrysler Performance West Spring Fling
LOCATION:
ORGANIZER;CN=admin:MAILTO:gfeusi@outlook.com
DTSTART;TZID=Etc/GMT+0;VALUE=DATE:20250503
DTEND;TZID=Etc/GMT+0;VALUE=DATE:20250505
X-ALT-DESC;FMTTYPE=TEXT/HTML:Check out the Evevt Here! http://www.cpwclub.c
 om/springfling.php
CATEGORIES:Car Shows
URL;VALUE=URI:https://cpmopargarage.com/mc-events/chrysler-performance-west
 -spring-fling/
METHOD:PUBLISH
END:VEVENT
END:VCALENDAR